BEGIN:VCALENDAR
VERSION:2.0
PRODID:-//wp-events-plugin.com//7.2.3.1//EN
BEGIN:VEVENT
UID:185@whatcomartcenter.org
DTSTART:20250426T180000Z
DTEND:20250427T000000Z
DTSTAMP:20250305T013149Z
URL:https://whatcomartcenter.org/events/botanical-mixed-media-art-journal-
 workshop/
SUMMARY:Botanical Mixed Media Art Journal Workshop
DESCRIPTION:Join us for a one-of-a-kind creative experience in the heart of
  historic Fairhaven! This hands-on workshop is designed to spark inspirati
 on and guide you in creating a Botanical Mixed Media Art Journal—a perso
 nal keepsake filled with rich textures\, natural prints\, and layered arti
 stry.\n\nNo experience required. Whether you’re a seasoned artist\, a pr
 intmaker\, a mixed media enthusiast\, or brand new to art\, this workshop 
 is designed for all levels. Connect with other creatives\, explore new tec
 hniques\, and leave with a stunning handmade art journal that will inspire
  your creativity for months to come!\nWhat to Expect:\nMorning Session (10
 :00-12:00):\n\n 	Gelli Plate Printing with Candice Christie\n 	Experiment 
 with paints\, inks\, and botanical elements like grasses\, plants\, and le
 aves to create stunning\, textured prints.\n 	Use your one-of-a-kind print
 s to craft the cover of your art journal.\n\nLunch Break (12:00-1:00) - on
  your own:\n\n 	Explore the charming cafés and eateries of historic downt
 own Fairhaven!\n\nAfternoon Session (1:00-4:00):\n\n 	Petals as Paint Coll
 age &amp\; Botanical Prints with Belinda Botzong – Create delicate\, nat
 ure-inspired collages using dried flowers and leaves\, layering them to fo
 rm stunning compositions that will become part of your journal. You’ll a
 lso explore botanical printing techniques to add depth and variety to your
  pages.\n 	Mixed Media Exploration with Kimberly Snider – Play with laye
 rs\, textures\, and creative composition to add depth and personality to y
 our journal.\n\nArt Medium: Mixed Media\n\nArt Materials Provided: Everyth
 ing you will need is provided\n\nSuggested clothing/etc: Apron or grubby c
 lothes - you might get messy!\n\nRegistration: Contact Belinda Botzong @ r
 efindcreations33@gmail.com\, 360-966-6473\n\nPayment: Cash or check at the
  event.\n\nClass Size: Limited to 16 participants\n\nArtist Info/Bio:\n\nB
 elinda Botzong:\n\n 	Pacific Northwest Artist - Belinda Botzong - Refind C
 reations\n 	https://www.facebook.com/refindcreations33 \n 	Belinda Botzon
 g - Whatcom Art Market\n\nStephanie Strong:\n\n 	Sstrongdesign.com\n 	Step
 hanie Strong - Whatcom Art Market\n\n&nbsp\;
ATTACH;FMTTYPE=image/jpeg:https://whatcomartcenter.org/wp-content/uploads/
 2025/02/IMG_6248.jpg
CATEGORIES:Class
LOCATION:Whatcom Art Center\, 1105 11St\, Bellingham\, Washington\, 98225\,
  United States
X-APPLE-STRUCTURED-LOCATION;VALUE=URI;X-ADDRESS=1105 11St\, Bellingham\, Wa
 shington\, 98225\, United States;X-APPLE-RADIUS=100;X-TITLE=Whatcom Art Ce
 nter:geo:0,0
END:VEVENT
END:VCALENDAR