BEGIN:VCALENDAR
VERSION:2.0
PRODID:-//wp-events-plugin.com//7.2.3.1//EN
BEGIN:VEVENT
UID:216@whatcomartcenter.org
DTSTART:20250524T190000Z
DTEND:20250525T013000Z
DTSTAMP:20250523T000144Z
URL:https://whatcomartcenter.org/events/from-the-mountains-to-the-sea-chil
 drens-art-exhibit-2025-05-24/
SUMMARY:From the Mountains to the Sea - Student Art Exhibit
DESCRIPTION:The theme is “From the Mountains to the Sea”\, encouraging 
 students to explore and depict the beauty of our region’s landscapes\, f
 rom the peaks of the Cascades to the shores of Bellingham Bay. \n\nWhatcom
  Art Guild has invited these Bellingham District schools (Happy Valley Ele
 mentary\, Fairhaven Middle School\, The Bellingham Family Partnership) and
  Franklin Academy (a highly regarded private school) to submit artwork rep
 resenting all grade levels to exhibit during the Ski to Sea celebration.\n
 \nArtists and Family Reception: Saturday\, May 24 1-3 PM\n\nCelebrate your
  students' creativity with us during this special reception!\n\n&nbsp\;\n\
 nSubmission Details\n\n 	Each school may submit up to 30 pieces of student
  artwork.\n 	Artwork may be any size up to 16 x 20" and does not need to b
 e framed.\n 	Artwork Drop-off: Thursday\, May 22\, 11-5PM\n 	Artwork Pick-
 up: Sunday\, May 25 by 5:30PM (after the exhibit closes)\n\n&nbsp\;\n\nLet
 ’s celebrate the imagination and talent of our young artists together!\n
 \n&nbsp\;\n\nFor Questions\, please contact:\n\n 	Stephanie Strong:  Stro
 ng12@yahoo.com  (206)-450-5465\n 	Jean Kinney:   jeankinney@msn.com (25
 3)-732-2131\n
ATTACH;FMTTYPE=image/jpeg:https://whatcomartcenter.org/wp-content/uploads/
 2025/04/68004a20ea581.jpg
CATEGORIES:Art Exhibit/Show
LOCATION:Whatcom Art Center\, 1105 11St\, Bellingham\, Washington\, 98225\,
  United States
X-APPLE-STRUCTURED-LOCATION;VALUE=URI;X-ADDRESS=1105 11St\, Bellingham\, Wa
 shington\, 98225\, United States;X-APPLE-RADIUS=100;X-TITLE=Whatcom Art Ce
 nter:geo:0,0
END:VEVENT
END:VCALENDAR