BEGIN:VCALENDAR
VERSION:2.0
PRODID:-//wp-events-plugin.com//7.2.3.1//EN
BEGIN:VEVENT
UID:366@whatcomartcenter.org
DTSTART:20260425T220000Z
DTEND:20260426T010000Z
DTSTAMP:20260418T195400Z
URL:https://whatcomartcenter.org/events/meet-the-new-artists/
SUMMARY:Meet the new Artists!
DESCRIPTION:Meet seven new local artists and experience their unique art.\n
 \nSeven new\, local artists have joined the Whatcom Art Market\, and this 
 is your chance to see their unique art and meet them in person.\n\nEach ne
 w artist will be present to discuss their art\, their creative processes\,
  and background.\n\nNew Artists:\n\n 	Susan Burke\n 	Matthew Crane\n 	Jane
  Davis\n 	Ceci Lopez\n 	Kate Underwood\n 	Becka Viets\n\nAlso\, existing a
 rtists are regularly adding to and updating their art\, so this is a great
  opportunity to see everything that is new at the market.\n\n&nbsp\;\n\nTh
 e Whatcom Art Market is a vibrant co-op gallery showcasing the work of ove
 r 50 local artists from Whatcom\, Skagit\, and the San Juan Islands.\n\n&n
 bsp\;
ATTACH;FMTTYPE=image/jpeg:https://whatcomartcenter.org/wp-content/uploads/
 2026/03/MeetTheArtistsUpdated.jpg
CATEGORIES:Special Events
LOCATION:Whatcom Art Market\, 1103 11St\, Bellingham\, Washington\, United 
 States
X-APPLE-STRUCTURED-LOCATION;VALUE=URI;X-ADDRESS=1103 11St\, Bellingham\, Wa
 shington\, United States;X-APPLE-RADIUS=100;X-TITLE=Whatcom Art Market:geo
 :0,0
END:VEVENT
END:VCALENDAR