BEGIN:VCALENDAR
VERSION:2.0
PRODID:-//wp-events-plugin.com//7.2.3.1//EN
BEGIN:VEVENT
UID:190@whatcomartcenter.org
DTSTART:20250322T190000Z
DTEND:20250323T030000Z
DTSTAMP:20250310T171915Z
URL:https://whatcomartcenter.org/events/sehome-high-school-art-show-2025-0
 3-22/
SUMMARY:Sehome High School Art Show
DESCRIPTION:Join us at Whatcom Art Center as we showcase the incredible tal
 ent of Sehome High School art students - a celebration of young\, passiona
 te artists in our community! This special exhibit features ceramics\, wate
 rcolor\, sculpture\, and visual arts from students in Arts 1 &amp\; 2.\n\n
 Meet the student artists\, see their amazing work\, and show your support 
 for young creatives in our community.\n\nSehome’s Visual Arts Department
  offers a diverse range of courses\, fostering creativity\, problem-solvin
 g\, and self-expression. Some students will continue their artistic journe
 ys in higher education\, while others carry their creativity into new adve
 ntures.\n\nArt education fosters creativity\, problem-solving\, and persev
 erance—come celebrate these talented students and their artistic journey
 s! \n\n  \n\n \n\n&nbsp\;
ATTACH;FMTTYPE=image/jpeg:https://whatcomartcenter.org/wp-content/uploads/
 2025/03/Screenshot-2025-03-10-101806.png
CATEGORIES:Art Exhibit/Show,Special Events
LOCATION:Whatcom Art Center\, 1105 11St\, Bellingham\, Washington\, 98225\,
  United States
X-APPLE-STRUCTURED-LOCATION;VALUE=URI;X-ADDRESS=1105 11St\, Bellingham\, Wa
 shington\, 98225\, United States;X-APPLE-RADIUS=100;X-TITLE=Whatcom Art Ce
 nter:geo:0,0
END:VEVENT
END:VCALENDAR